BEGIN:VCALENDAR
VERSION:2.0
CALSCALE:GREGORIAN
METHOD:PUBLISH
PRODID://IBCA//49195
BEGIN:VEVENT
DTSTAMP:20260422T173659
VTIMEZONE:America/Denver
DTSTART:20260417T220000Z
DTEND:20260418T010000Z
UID:49195
SUMMARY:Caldwell Early Youth Resource Fair
LOCATION:Caldwell, 400 E Linden Street, Caldwell, ID, 83605
DESCRIPTION:Caldwell Early Youth Resource Fair\n\n04/17/26 04:00 PM MST\n - 04/17/26 07:00 PM MST\Description:\nThis is a resource fair for families to take their kids and gather resources. There will be several vendors, live music, food, free haircuts, and more! Please stop by and support the single parents within the community at our booth, AGF for Single Parents! This event is for ALL families.\Details:\nTHis is a free event and all families are welcome to come!\Location:\nCaldwell\n400 E Linden Street\nCaldwell, ID 83605
X-ALT-DESC;FMTTYPE=text/html:Caldwell Early Youth Resource Fair<br /><br />04/17/26 04:00 PM MST - 04/17/26 07:00 PM MST<br />Description:<br />This is a resource fair for families to take their kids and gather resources. There will be several vendors, live music, food, free haircuts, and more! Please stop by and support the single parents within the community at our booth, AGF for Single Parents! This event is for ALL families.<br />Details:<br />THis is a free event and all families are welcome to come!<br />Location:<br />Caldwell<br />400 E Linden Street<br />Caldwell, ID 83605
PRIORITY:3
TRANSP:TRANSPARENT
BEGIN:VALARM
TRIGGER:-PT5M
ACTION:DISPLAY
DESCRIPTION:Reminder
END:VALARM
END:VEVENT
END:VCALENDAR
